BEGIN:VCALENDAR
VERSION:2.0
PRODID:-//Sabre//Sabre VObject 4.5.8//EN
CALSCALE:GREGORIAN
BEGIN:VTIMEZONE
TZID:Europe/Zurich
X-LIC-LOCATION:Europe/Zurich
TZURL:http://tzurl.org/zoneinfo/Europe/Zurich
BEGIN:DAYLIGHT
TZOFFSETFROM:+0100
TZOFFSETTO:+0200
TZNAME:CEST
DTSTART:19810329T020000
RRULE:FREQ=YEARLY;BYMONTH=3;BYDAY=-1SU
END:DAYLIGHT
BEGIN:STANDARD
TZOFFSETFROM:+0200
TZOFFSETTO:+0100
TZNAME:CET
DTSTART:19961027T030000
RRULE:FREQ=YEARLY;BYMONTH=10;BYDAY=-1SU
END:STANDARD
END:VTIMEZONE
BEGIN:VEVENT
UID:news1570@daw.philhist.unibas.ch
DTSTAMP;TZID=Europe/Zurich:20260325T131922
DTSTART;VALUE=DATE:20260504
SUMMARY:New Approaches to Egyptian Grammar: Ergebnisse und Perspektiven des
  LCDE-Projekts
DESCRIPTION:Am 4. und 5. Mai 2026 findet an der Universität Basel ein inte
 rnationaler Workshop unter der Leitung von Dr. Marwan Kilani statt\, der s
 ich mit neuen Ansätzen zur ägyptischen Grammatik befasst. Die Veranstalt
 ung präsentiert zentrale Ergebnisse des vierjährigen SNF-geförderten Fo
 rschungsprojekts LCDE („Like the conversation of a Delta man with a man
  from Elephantine“) und gibt zugleich einen Ausblick auf zukünftige For
 schungsperspektiven.\\r\\nDie Veranstaltung findet in Präsenz statt\; bei
  ausreichender Nachfrage ist eine Online-Teilnahme möglich. Die Teilnahme
  ist kostenlos. Da die Workshop-Materialien im Voraus zur Verfügung geste
 llt werden\, ist eine Anmeldung bis zum 20. April 2026 erforderlich.\\r\\n
 Weitere Informationen zum Programm sowie zur Anmeldung finden Sie auf der 
 Workshop-Webseite:https://mkilani.github.io/lcde-workshop/ [https://mkilan
 i.github.io/lcde-workshop/]\\r\\nDirekte Anmeldung:https://docs.google.com
 /forms/d/e/1FAIpQLSfESvYnuc8CUF2vzAe1f-1oVSoQo_yssDdwEoB-eovEDJWMtg/viewfo
 rm?usp=dialog [https://docs.google.com/forms/d/e/1FAIpQLSfESvYnuc8CUF2vzAe
 1f-1oVSoQo_yssDdwEoB-eovEDJWMtg/viewform?usp=dialog]
X-ALT-DESC:<p>Am <strong>4. und 5. Mai 2026</strong> findet an der <strong>
 Universität Basel</strong> ein <strong>internationaler Workshop</strong> 
 unter der Leitung von <strong>Dr. Marwan Kilani</strong> statt\, der sich 
 mit neuen Ansätzen zur ägyptischen Grammatik befasst. Die Veranstaltung 
 präsentiert zentrale Ergebnisse des vierjährigen SNF-geförderten Forsch
 ungsprojekts&nbsp\;<a href="https://daw.philhist.unibas.ch/de/aegyptologie
 /forschung/forschungsprojekte/lcde/"><i>LCDE</i></a> („Like the conversa
 tion of a Delta man with a man from Elephantine“) und gibt zugleich eine
 n Ausblick auf zukünftige Forschungsperspektiven.</p>\n<p>Die Veranstaltu
 ng findet in Präsenz statt\; bei ausreichender Nachfrage ist eine Online-
 Teilnahme möglich. Die Teilnahme ist kostenlos. Da die Workshop-Materiali
 en im Voraus zur Verfügung gestellt werden\, ist eine Anmeldung bis zum <
 strong>20. April 2026</strong> erforderlich.</p>\n<p>Weitere Informationen
  zum Programm sowie zur Anmeldung finden Sie auf der Workshop-Webseite:<br
  /><a href="https://mkilani.github.io/lcde-workshop/">https://mkilani.gith
 ub.io/lcde-workshop/</a></p>\n<p>Direkte Anmeldung:<br /><a href="https://
 docs.google.com/forms/d/e/1FAIpQLSfESvYnuc8CUF2vzAe1f-1oVSoQo_yssDdwEoB-eo
 vEDJWMtg/viewform?usp=dialog">https://docs.google.com/forms/d/e/1FAIpQLSfE
 SvYnuc8CUF2vzAe1f-1oVSoQo_yssDdwEoB-eovEDJWMtg/viewform?usp=dialog</a></p>
 \n\n
DTEND;VALUE=DATE:20260505
END:VEVENT
END:VCALENDAR
