BEGIN:VCALENDAR
VERSION:2.0
PRODID:-//Sabre//Sabre VObject 4.5.8//EN
CALSCALE:GREGORIAN
BEGIN:VTIMEZONE
TZID:Europe/Zurich
X-LIC-LOCATION:Europe/Zurich
TZURL:http://tzurl.org/zoneinfo/Europe/Zurich
BEGIN:DAYLIGHT
TZOFFSETFROM:+0100
TZOFFSETTO:+0200
TZNAME:CEST
DTSTART:19810329T020000
RRULE:FREQ=YEARLY;BYMONTH=3;BYDAY=-1SU
END:DAYLIGHT
BEGIN:STANDARD
TZOFFSETFROM:+0200
TZOFFSETTO:+0100
TZNAME:CET
DTSTART:19961027T030000
RRULE:FREQ=YEARLY;BYMONTH=10;BYDAY=-1SU
END:STANDARD
END:VTIMEZONE
BEGIN:VEVENT
UID:news1484@daw.philhist.unibas.ch
DTSTAMP;TZID=Europe/Zurich:20260422T080443
DTSTART;VALUE=DATE:20260429
SUMMARY:Abgesagt: Workshop: Making the Invisible Visible: Clarifying Roles\
 , Assumptions and Responsibilities in your PhD
DESCRIPTION:Aufgrund einer zu geringen Teilnehmendenzahl muss der Workshop 
 von Frau Dr. Schnepf leider abgesagt werden.\\r\\nEin Ausweichtermin im Ok
 tober ist derzeit in Planung.
X-ALT-DESC:<p>Aufgrund einer zu geringen Teilnehmendenzahl muss der Worksho
 p von Frau Dr. Schnepf <strong>leider abgesagt </strong>werden.</p>\n<p>Ei
 n Ausweichtermin im Oktober ist derzeit in Planung.</p>
END:VEVENT
END:VCALENDAR
