BEGIN:VCALENDAR
VERSION:2.0
PRODID:-//Sabre//Sabre VObject 4.5.8//EN
CALSCALE:GREGORIAN
BEGIN:VTIMEZONE
TZID:Europe/Zurich
X-LIC-LOCATION:Europe/Zurich
TZURL:http://tzurl.org/zoneinfo/Europe/Zurich
BEGIN:DAYLIGHT
TZOFFSETFROM:+0100
TZOFFSETTO:+0200
TZNAME:CEST
DTSTART:19810329T020000
RRULE:FREQ=YEARLY;BYMONTH=3;BYDAY=-1SU
END:DAYLIGHT
BEGIN:STANDARD
TZOFFSETFROM:+0200
TZOFFSETTO:+0100
TZNAME:CET
DTSTART:19961027T030000
RRULE:FREQ=YEARLY;BYMONTH=10;BYDAY=-1SU
END:STANDARD
END:VTIMEZONE
BEGIN:VEVENT
UID:news1576@daw.philhist.unibas.ch
DTSTAMP;TZID=Europe/Zurich:20260423T132454
DTSTART;TZID=Europe/Zurich:20260622T090000
SUMMARY:Storytelling für Geistes- und Sozialwissenschaften
DESCRIPTION:Gute Stories aus den Geisteswissenschaften finden zunehmend ihr
 en Weg immer in die  (Sozialen) Medien – der Erfolg des Arte- YouTube-K
 anals mit fast 2\,5 Mio Abonnentinnen ist nur ein Beispiel dafür. Doch wi
 e schaffen es Themen aus der Geisteswissenschaft in die öffentliche Wahrn
 ehmung? Und wie kann die öffentliche Wahrnehmung dazu beitragen\, die wis
 senschaftliche Reputation zu fördern?\\r\\nUnser praktischer Storytelling
 -Kurs gibt (Post-)Doktorierenden das Handwerkszeug\, um ihre eigene Forsch
 ung und sich selbst überzeugend zu präsentieren: in der Lehre\, bei der 
 Einwerbung von Drittmitteln\, in Publikationen oder in der öffentlichen W
 issenschaftskommunikation. Storytelling ist dabei der Schlüssel – ob f
 ür Präsentationen\, Podcasts\, Filme\, Social-Media-Posts oder andere au
 diovisuelle Formate.\\r\\nWann? 22-25.06.2026 als Block je 9:00-13:00\\r\\
 nWo? Universität Basel\, Steinengraben 5\, Seminarraum 302.\\r\\nWer? Di
 pl. Phil. Jo Siegler\, freier Autor\, Journalist und Produzent (https://ww
 w.maakii.com/ [https://www.maakii.com/])\\r\\nKontakt: Ana Maspoli ana.mas
 poli@unibas.ch [mailto:ana.maspoli@unibas.ch] 
X-ALT-DESC:<p>Gute Stories aus den Geisteswissenschaften finden zunehmend i
 hren Weg immer in die&nbsp\; (Sozialen) Medien – der Erfolg des Arte- Yo
 uTube-Kanals mit fast 2\,5 Mio Abonnentinnen ist nur ein Beispiel dafür. 
 Doch wie schaffen es Themen aus der Geisteswissenschaft in die öffentlich
 e Wahrnehmung? Und wie kann die öffentliche Wahrnehmung dazu beitragen\, 
 die wissenschaftliche Reputation zu fördern?</p>\n<p>Unser praktischer St
 orytelling-Kurs gibt (Post-)Doktorierenden das Handwerkszeug\, um ihre eig
 ene Forschung und sich selbst überzeugend zu präsentieren: in der Lehre\
 , bei der Einwerbung von Drittmitteln\, in Publikationen oder in der öffe
 ntlichen Wissenschaftskommunikation. Storytelling ist dabei der Schlüssel
  – ob für Präsentationen\, Podcasts\, Filme\, Social-Media-Posts oder 
 andere audiovisuelle Formate.</p>\n<p><strong>Wann?</strong> 22-25.06.2026
  als Block je 9:00-13:00</p>\n<p><strong>Wo?&nbsp\;</strong>Universität B
 asel\, Steinengraben 5\, Seminarraum 302.</p>\n<p><strong>Wer?</strong> Di
 pl. Phil. Jo Siegler\, freier Autor\, Journalist und Produzent (<a href="h
 ttps://www.maakii.com/">https://www.maakii.com/</a>)</p>\n<p>Kontakt: Ana 
 Maspoli <a href="mailto:ana.maspoli@unibas.ch">ana.maspoli@unibas.ch</a>&n
 bsp\;</p>
DTEND;TZID=Europe/Zurich:20260625T130000
END:VEVENT
END:VCALENDAR
