BEGIN:VCALENDAR
VERSION:2.0
PRODID:-//Sabre//Sabre VObject 4.5.8//EN
CALSCALE:GREGORIAN
BEGIN:VTIMEZONE
TZID:Europe/Zurich
X-LIC-LOCATION:Europe/Zurich
TZURL:http://tzurl.org/zoneinfo/Europe/Zurich
BEGIN:DAYLIGHT
TZOFFSETFROM:+0100
TZOFFSETTO:+0200
TZNAME:CEST
DTSTART:19810329T020000
RRULE:FREQ=YEARLY;BYMONTH=3;BYDAY=-1SU
END:DAYLIGHT
BEGIN:STANDARD
TZOFFSETFROM:+0200
TZOFFSETTO:+0100
TZNAME:CET
DTSTART:19961027T030000
RRULE:FREQ=YEARLY;BYMONTH=10;BYDAY=-1SU
END:STANDARD
END:VTIMEZONE
BEGIN:VEVENT
UID:news1489@daw.philhist.unibas.ch
DTSTAMP;TZID=Europe/Zurich:20260309T082341
DTSTART;TZID=Europe/Zurich:20260312T120000
SUMMARY:Abgesagt: Ausstellung «Hero Games» im Antikenmuseum Basel und Sam
 mlung Ludwig
DESCRIPTION:Leider muss die Veranstaltung abgesagt werden\\r\\nZusammen mit
  der Kuratorin Anna Laschinger und der Gestalterin Trinidad Moreno besuche
 n wir zuerst die aktuelle interaktive Sonderausstellung\, danach unterhalt
 en wir uns über die Ziele\, Herausforderungen und Chancen eines solchen 
 Ausstellungsprojektes. Wie stark orientiert man sich an aktuellen Games\, 
 welche technischen Herausforderungen stellen sich? Wie weit geht man ins F
 iktionale\, welche Inhalte kann man vermitteln? Und welche Erfahrungen hat
  das Antikenmuseum über die letzten Monate mit dieser Ausstellungsform g
 emacht?
X-ALT-DESC:<p><strong>Leider muss die Veranstaltung abgesagt werden</strong
 ></p>\n<p>Zusammen mit der Kuratorin Anna Laschinger und der Gestalterin T
 rinidad Moreno besuchen wir zuerst die aktuelle interaktive Sonderausstell
 ung\, danach unterhalten wir uns über die Ziele\, Herausforderungen und 
 Chancen eines solchen Ausstellungsprojektes. Wie stark orientiert man sich
  an aktuellen Games\, welche technischen Herausforderungen stellen sich? W
 ie weit geht man ins Fiktionale\, welche Inhalte kann man vermitteln? Und 
 welche Erfahrungen hat das Antikenmuseum über die letzten Monate mit die
 ser Ausstellungsform gemacht?</p>
END:VEVENT
END:VCALENDAR
